BEGIN:VCALENDAR
VERSION:2.0
PRODID:-//Bellingham Automotive - ECPv6.15.12.2//NONSGML v1.0//EN
CALSCALE:GREGORIAN
METHOD:PUBLISH
X-ORIGINAL-URL:https://bellinghamautomotive.com
X-WR-CALDESC:Events for Bellingham Automotive
REFRESH-INTERVAL;VALUE=DURATION:PT1H
X-Robots-Tag:noindex
X-PUBLISHED-TTL:PT1H
BEGIN:VTIMEZONE
TZID:UTC
BEGIN:STANDARD
TZOFFSETFROM:+0000
TZOFFSETTO:+0000
TZNAME:UTC
DTSTART:20250101T000000
END:STANDARD
END:VTIMEZONE
BEGIN:VEVENT
DTSTART;VALUE=DATE:20260807
DTEND;VALUE=DATE:20260808
DTSTAMP:20260421T225003
CREATED:20260109T203001Z
LAST-MODIFIED:20260109T203001Z
UID:5799-1786060800-1786147199@bellinghamautomotive.com
SUMMARY:Jarad Gone
DESCRIPTION:
URL:https://bellinghamautomotive.com/event/jarad-gone-5/
CATEGORIES:Jerad Gone
END:VEVENT
BEGIN:VEVENT
DTSTART;VALUE=DATE:20260810
DTEND;VALUE=DATE:20260811
DTSTAMP:20260421T225003
CREATED:20260109T220532Z
LAST-MODIFIED:20260109T221104Z
UID:5818-1786320000-1786406399@bellinghamautomotive.com
SUMMARY:Tyler Gone
DESCRIPTION:
URL:https://bellinghamautomotive.com/event/tyler-gone-10/
CATEGORIES:Tyler Gone
END:VEVENT
BEGIN:VEVENT
DTSTART;VALUE=DATE:20260825
DTEND;VALUE=DATE:20260828
DTSTAMP:20260421T225003
CREATED:20260106T172219Z
LAST-MODIFIED:20260106T172219Z
UID:5782-1787616000-1787875199@bellinghamautomotive.com
SUMMARY:BOB GONE
DESCRIPTION:
URL:https://bellinghamautomotive.com/event/bob-gone/
CATEGORIES:Bob Gone
END:VEVENT
END:VCALENDAR