BEGIN:VCALENDAR
VERSION:2.0
PRODID:-//Bellingham Automotive - ECPv6.15.12.2//NONSGML v1.0//EN
CALSCALE:GREGORIAN
METHOD:PUBLISH
X-ORIGINAL-URL:https://bellinghamautomotive.com
X-WR-CALDESC:Events for Bellingham Automotive
REFRESH-INTERVAL;VALUE=DURATION:PT1H
X-Robots-Tag:noindex
X-PUBLISHED-TTL:PT1H
BEGIN:VTIMEZONE
TZID:UTC
BEGIN:STANDARD
TZOFFSETFROM:+0000
TZOFFSETTO:+0000
TZNAME:UTC
DTSTART:20250101T000000
END:STANDARD
END:VTIMEZONE
BEGIN:VEVENT
DTSTART;VALUE=DATE:20260629
DTEND;VALUE=DATE:20260703
DTSTAMP:20260421T205806
CREATED:20251107T230147Z
LAST-MODIFIED:20251231T214153Z
UID:5616-1782691200-1783036799@bellinghamautomotive.com
SUMMARY:Jason V Gone
DESCRIPTION:
URL:https://bellinghamautomotive.com/event/jason-v-gone-5/
CATEGORIES:Jason V Gone
END:VEVENT
BEGIN:VEVENT
DTSTART;VALUE=DATE:20260702
DTEND;VALUE=DATE:20260703
DTSTAMP:20260421T205806
CREATED:20251212T202057Z
LAST-MODIFIED:20251212T202057Z
UID:5668-1782950400-1783036799@bellinghamautomotive.com
SUMMARY:Derek Gone
DESCRIPTION:
URL:https://bellinghamautomotive.com/event/derek-gone-12/
CATEGORIES:Derek Gone
END:VEVENT
BEGIN:VEVENT
DTSTART;VALUE=DATE:20260703
DTEND;VALUE=DATE:20260704
DTSTAMP:20260421T205806
CREATED:20251231T214254Z
LAST-MODIFIED:20251231T214254Z
UID:5751-1783036800-1783123199@bellinghamautomotive.com
SUMMARY:SHOP CLOSED
DESCRIPTION:
URL:https://bellinghamautomotive.com/event/shop-closed-3/
CATEGORIES:HOLIDAY SHOP CLOSED
END:VEVENT
BEGIN:VEVENT
DTSTART;VALUE=DATE:20260706
DTEND;VALUE=DATE:20260707
DTSTAMP:20260421T205806
CREATED:20251218T214205Z
LAST-MODIFIED:20251218T214205Z
UID:5709-1783296000-1783382399@bellinghamautomotive.com
SUMMARY:Gary Gone
DESCRIPTION:
URL:https://bellinghamautomotive.com/event/gary-gone-12/
CATEGORIES:Gary Gone
END:VEVENT
BEGIN:VEVENT
DTSTART;VALUE=DATE:20260709
DTEND;VALUE=DATE:20260714
DTSTAMP:20260421T205806
CREATED:20260106T145621Z
LAST-MODIFIED:20260106T145621Z
UID:5780-1783555200-1783987199@bellinghamautomotive.com
SUMMARY:Greg Gone
DESCRIPTION:
URL:https://bellinghamautomotive.com/event/greg-gone-9/
CATEGORIES:Greg Gone
END:VEVENT
BEGIN:VEVENT
DTSTART;VALUE=DATE:20260716
DTEND;VALUE=DATE:20260718
DTSTAMP:20260421T205806
CREATED:20260109T202331Z
LAST-MODIFIED:20260109T202331Z
UID:5795-1784160000-1784332799@bellinghamautomotive.com
SUMMARY:Jarad Gone
DESCRIPTION:
URL:https://bellinghamautomotive.com/event/jarad-gone-3/
CATEGORIES:Jerad Gone
END:VEVENT
BEGIN:VEVENT
DTSTART;VALUE=DATE:20260720
DTEND;VALUE=DATE:20260721
DTSTAMP:20260421T205806
CREATED:20260109T202426Z
LAST-MODIFIED:20260109T202426Z
UID:5797-1784505600-1784591999@bellinghamautomotive.com
SUMMARY:Jarad Gone
DESCRIPTION:
URL:https://bellinghamautomotive.com/event/jarad-gone-4/
CATEGORIES:Jerad Gone
END:VEVENT
BEGIN:VEVENT
DTSTART;VALUE=DATE:20260720
DTEND;VALUE=DATE:20260725
DTSTAMP:20260421T205806
CREATED:20260106T145542Z
LAST-MODIFIED:20260106T145542Z
UID:5778-1784505600-1784937599@bellinghamautomotive.com
SUMMARY:KC Gone
DESCRIPTION:
URL:https://bellinghamautomotive.com/event/kc-gone-14/
CATEGORIES:KC Gone
END:VEVENT
BEGIN:VEVENT
DTSTART;TZID=UTC:20260720T080000
DTEND;TZID=UTC:20260722T170000
DTSTAMP:20260421T205806
CREATED:20251218T181230Z
LAST-MODIFIED:20251218T181230Z
UID:5690-1784534400-1784739600@bellinghamautomotive.com
SUMMARY:Serge Gone
DESCRIPTION:
URL:https://bellinghamautomotive.com/event/serge-gone-6/
CATEGORIES:Serge Gone
END:VEVENT
BEGIN:VEVENT
DTSTART;VALUE=DATE:20260723
DTEND;VALUE=DATE:20260728
DTSTAMP:20260421T205806
CREATED:20260109T210302Z
LAST-MODIFIED:20260109T210302Z
UID:5801-1784764800-1785196799@bellinghamautomotive.com
SUMMARY:Gary Gone
DESCRIPTION:
URL:https://bellinghamautomotive.com/event/gary-gone-10/
CATEGORIES:Gary Gone
END:VEVENT
END:VCALENDAR