BEGIN:VCALENDAR
VERSION:2.0
PRODID:-//Bellingham Automotive - ECPv6.15.12.2//NONSGML v1.0//EN
CALSCALE:GREGORIAN
METHOD:PUBLISH
X-WR-CALNAME:Bellingham Automotive
X-ORIGINAL-URL:https://bellinghamautomotive.com
X-WR-CALDESC:Events for Bellingham Automotive
REFRESH-INTERVAL;VALUE=DURATION:PT1H
X-Robots-Tag:noindex
X-PUBLISHED-TTL:PT1H
BEGIN:VTIMEZONE
TZID:UTC
BEGIN:STANDARD
TZOFFSETFROM:+0000
TZOFFSETTO:+0000
TZNAME:UTC
DTSTART:20250101T000000
END:STANDARD
END:VTIMEZONE
BEGIN:VEVENT
DTSTART;TZID=UTC:20260507T080000
DTEND;TZID=UTC:20260511T170000
DTSTAMP:20260421T171626
CREATED:20251107T230033Z
LAST-MODIFIED:20251107T230033Z
UID:5614-1778140800-1778518800@bellinghamautomotive.com
SUMMARY:Greg Gone
DESCRIPTION:
URL:https://bellinghamautomotive.com/event/greg-gone-4/
CATEGORIES:Gary Gone
END:VEVENT
BEGIN:VEVENT
DTSTART;VALUE=DATE:20260514
DTEND;VALUE=DATE:20260516
DTSTAMP:20260421T171626
CREATED:20251231T211916Z
LAST-MODIFIED:20251231T211916Z
UID:5733-1778716800-1778889599@bellinghamautomotive.com
SUMMARY:Jerad Gone
DESCRIPTION:
URL:https://bellinghamautomotive.com/event/jerad-gone-6/
CATEGORIES:Jerad Gone
END:VEVENT
BEGIN:VEVENT
DTSTART;TZID=UTC:20260518T080000
DTEND;TZID=UTC:20260529T170000
DTSTAMP:20260421T171626
CREATED:20251229T201613Z
LAST-MODIFIED:20251229T201613Z
UID:5723-1779091200-1780074000@bellinghamautomotive.com
SUMMARY:CHRIS GONE
DESCRIPTION:
URL:https://bellinghamautomotive.com/event/chris-gone-5/
CATEGORIES:Chris Gone
END:VEVENT
BEGIN:VEVENT
DTSTART;VALUE=DATE:20260521
DTEND;VALUE=DATE:20260523
DTSTAMP:20260421T171626
CREATED:20251231T212934Z
LAST-MODIFIED:20251231T212934Z
UID:5745-1779321600-1779494399@bellinghamautomotive.com
SUMMARY:Kelly Gone
DESCRIPTION:
URL:https://bellinghamautomotive.com/event/kelly-gone-10/
CATEGORIES:Kelly Gone
END:VEVENT
BEGIN:VEVENT
DTSTART;VALUE=DATE:20260522
DTEND;VALUE=DATE:20260523
DTSTAMP:20260421T171626
CREATED:20260109T210356Z
LAST-MODIFIED:20260109T210356Z
UID:5803-1779408000-1779494399@bellinghamautomotive.com
SUMMARY:Gary Gone
DESCRIPTION:
URL:https://bellinghamautomotive.com/event/gary-gone-13/
CATEGORIES:Gary Gone
END:VEVENT
BEGIN:VEVENT
DTSTART;VALUE=DATE:20260522
DTEND;VALUE=DATE:20260527
DTSTAMP:20260421T171626
CREATED:20260102T202841Z
LAST-MODIFIED:20260102T202855Z
UID:5761-1779408000-1779839999@bellinghamautomotive.com
SUMMARY:Greg Gone
DESCRIPTION:
URL:https://bellinghamautomotive.com/event/greg-gone-6/
CATEGORIES:Greg Gone
END:VEVENT
BEGIN:VEVENT
DTSTART;VALUE=DATE:20260525
DTEND;VALUE=DATE:20260526
DTSTAMP:20260421T171626
CREATED:20251231T214518Z
LAST-MODIFIED:20251231T214518Z
UID:5755-1779667200-1779753599@bellinghamautomotive.com
SUMMARY:SHOP CLOSED
DESCRIPTION:
URL:https://bellinghamautomotive.com/event/shop-closed-5/
CATEGORIES:HOLIDAY SHOP CLOSED
END:VEVENT
BEGIN:VEVENT
DTSTART;VALUE=DATE:20260526
DTEND;VALUE=DATE:20260527
DTSTAMP:20260421T171626
CREATED:20260109T211750Z
LAST-MODIFIED:20260109T211750Z
UID:5811-1779753600-1779839999@bellinghamautomotive.com
SUMMARY:Derek Gone
DESCRIPTION:
URL:https://bellinghamautomotive.com/event/derek-gone-16/
CATEGORIES:Derek Gone
END:VEVENT
END:VCALENDAR