BEGIN:VCALENDAR
VERSION:2.0
PRODID:-//Bellingham Automotive - ECPv6.15.12.2//NONSGML v1.0//EN
CALSCALE:GREGORIAN
METHOD:PUBLISH
X-ORIGINAL-URL:https://bellinghamautomotive.com
X-WR-CALDESC:Events for Bellingham Automotive
REFRESH-INTERVAL;VALUE=DURATION:PT1H
X-Robots-Tag:noindex
X-PUBLISHED-TTL:PT1H
BEGIN:VTIMEZONE
TZID:UTC
BEGIN:STANDARD
TZOFFSETFROM:+0000
TZOFFSETTO:+0000
TZNAME:UTC
DTSTART:20250101T000000
END:STANDARD
END:VTIMEZONE
BEGIN:VEVENT
DTSTART;VALUE=DATE:20260129
DTEND;VALUE=DATE:20260211
DTSTAMP:20260421T203303
CREATED:20251030T211544Z
LAST-MODIFIED:20251030T211544Z
UID:5598-1769644800-1770767999@bellinghamautomotive.com
SUMMARY:Anthony Gone
DESCRIPTION:
URL:https://bellinghamautomotive.com/event/anthony-gone-5/
CATEGORIES:Anthony Gone
END:VEVENT
BEGIN:VEVENT
DTSTART;TZID=UTC:20260205T080000
DTEND;TZID=UTC:20260205T110000
DTSTAMP:20260421T203303
CREATED:20251205T205631Z
LAST-MODIFIED:20251205T205631Z
UID:5658-1770278400-1770289200@bellinghamautomotive.com
SUMMARY:Jacob Gone 8-11 AM
DESCRIPTION:
URL:https://bellinghamautomotive.com/event/jacob-gone-8-11-am/
CATEGORIES:Jacob Gone
END:VEVENT
BEGIN:VEVENT
DTSTART;VALUE=DATE:20260206
DTEND;VALUE=DATE:20260207
DTSTAMP:20260421T203303
CREATED:20251023T220801Z
LAST-MODIFIED:20251023T220801Z
UID:5594-1770336000-1770422399@bellinghamautomotive.com
SUMMARY:Gary Gone
DESCRIPTION:
URL:https://bellinghamautomotive.com/event/gary-gone-9/
CATEGORIES:Gary Gone
END:VEVENT
BEGIN:VEVENT
DTSTART;VALUE=DATE:20260209
DTEND;VALUE=DATE:20260211
DTSTAMP:20260421T203303
CREATED:20251212T202321Z
LAST-MODIFIED:20251212T202321Z
UID:5672-1770595200-1770767999@bellinghamautomotive.com
SUMMARY:Dan Gone
DESCRIPTION:
URL:https://bellinghamautomotive.com/event/dan-gone-6/
CATEGORIES:Dan Gone
END:VEVENT
BEGIN:VEVENT
DTSTART;VALUE=DATE:20260212
DTEND;VALUE=DATE:20260213
DTSTAMP:20260421T203303
CREATED:20251218T210530Z
LAST-MODIFIED:20260109T214534Z
UID:5701-1770854400-1770940799@bellinghamautomotive.com
SUMMARY:Derek Gone
DESCRIPTION:
URL:https://bellinghamautomotive.com/event/derek-gone-at-1200/
CATEGORIES:Derek Gone
END:VEVENT
BEGIN:VEVENT
DTSTART;VALUE=DATE:20260213
DTEND;VALUE=DATE:20260214
DTSTAMP:20260421T203303
CREATED:20251107T230418Z
LAST-MODIFIED:20251107T230418Z
UID:5622-1770940800-1771027199@bellinghamautomotive.com
SUMMARY:Derek Gone
DESCRIPTION:
URL:https://bellinghamautomotive.com/event/derek-gone-9/
CATEGORIES:Derek Gone
END:VEVENT
BEGIN:VEVENT
DTSTART;VALUE=DATE:20260216
DTEND;VALUE=DATE:20260217
DTSTAMP:20260421T203303
CREATED:20251107T230502Z
LAST-MODIFIED:20251107T230502Z
UID:5624-1771200000-1771286399@bellinghamautomotive.com
SUMMARY:Derek Gone
DESCRIPTION:
URL:https://bellinghamautomotive.com/event/derek-gone-10/
CATEGORIES:Derek Gone
END:VEVENT
BEGIN:VEVENT
DTSTART;VALUE=DATE:20260216
DTEND;VALUE=DATE:20260217
DTSTAMP:20260421T203303
CREATED:20260106T145503Z
LAST-MODIFIED:20260106T145503Z
UID:5776-1771200000-1771286399@bellinghamautomotive.com
SUMMARY:KC Gone
DESCRIPTION:
URL:https://bellinghamautomotive.com/event/kc-gone-13/
CATEGORIES:KC Gone
END:VEVENT
BEGIN:VEVENT
DTSTART;VALUE=DATE:20260216
DTEND;VALUE=DATE:20260217
DTSTAMP:20260421T203303
CREATED:20260107T162045Z
LAST-MODIFIED:20260107T162045Z
UID:5787-1771200000-1771286399@bellinghamautomotive.com
SUMMARY:Kelly Gone
DESCRIPTION:
URL:https://bellinghamautomotive.com/event/kelly-gone-11/
CATEGORIES:Kelly Gone
END:VEVENT
END:VCALENDAR