BEGIN:VCALENDAR
VERSION:2.0
PRODID:-//Bellingham Automotive - ECPv6.15.12.2//NONSGML v1.0//EN
CALSCALE:GREGORIAN
METHOD:PUBLISH
X-ORIGINAL-URL:https://bellinghamautomotive.com
X-WR-CALDESC:Events for Bellingham Automotive
REFRESH-INTERVAL;VALUE=DURATION:PT1H
X-Robots-Tag:noindex
X-PUBLISHED-TTL:PT1H
BEGIN:VTIMEZONE
TZID:UTC
BEGIN:STANDARD
TZOFFSETFROM:+0000
TZOFFSETTO:+0000
TZNAME:UTC
DTSTART:20250101T000000
END:STANDARD
END:VTIMEZONE
BEGIN:VEVENT
DTSTART;VALUE=DATE:20260625
DTEND;VALUE=DATE:20260627
DTSTAMP:20260422T022956
CREATED:20251218T181338Z
LAST-MODIFIED:20260109T232727Z
UID:5692-1782345600-1782518399@bellinghamautomotive.com
SUMMARY:Serge Gone
DESCRIPTION:
URL:https://bellinghamautomotive.com/event/serge-gone-7/
CATEGORIES:Serge Gone
END:VEVENT
END:VCALENDAR