BEGIN:VCALENDAR
VERSION:2.0
PRODID:-//Bellingham Automotive - ECPv6.15.12.2//NONSGML v1.0//EN
CALSCALE:GREGORIAN
METHOD:PUBLISH
X-ORIGINAL-URL:https://bellinghamautomotive.com
X-WR-CALDESC:Events for Bellingham Automotive
REFRESH-INTERVAL;VALUE=DURATION:PT1H
X-Robots-Tag:noindex
X-PUBLISHED-TTL:PT1H
BEGIN:VTIMEZONE
TZID:UTC
BEGIN:STANDARD
TZOFFSETFROM:+0000
TZOFFSETTO:+0000
TZNAME:UTC
DTSTART:20240101T000000
END:STANDARD
END:VTIMEZONE
BEGIN:VEVENT
DTSTART;VALUE=DATE:20251229
DTEND;VALUE=DATE:20260103
DTSTAMP:20260422T004549
CREATED:20251015T162756Z
LAST-MODIFIED:20251015T162756Z
UID:5584-1766966400-1767398399@bellinghamautomotive.com
SUMMARY:KC GONE
DESCRIPTION:
URL:https://bellinghamautomotive.com/event/kc-gone-10/
CATEGORIES:KC Gone
END:VEVENT
BEGIN:VEVENT
DTSTART;VALUE=DATE:20260119
DTEND;VALUE=DATE:20260124
DTSTAMP:20260422T004549
CREATED:20260106T145334Z
LAST-MODIFIED:20260106T145334Z
UID:5772-1768780800-1769212799@bellinghamautomotive.com
SUMMARY:KC Gone
DESCRIPTION:
URL:https://bellinghamautomotive.com/event/kc-gone-11/
CATEGORIES:KC Gone
END:VEVENT
END:VCALENDAR