BEGIN:VCALENDAR
VERSION:2.0
PRODID:-//Bellingham Automotive - ECPv6.15.12.2//NONSGML v1.0//EN
CALSCALE:GREGORIAN
METHOD:PUBLISH
X-WR-CALNAME:Bellingham Automotive
X-ORIGINAL-URL:https://bellinghamautomotive.com
X-WR-CALDESC:Events for Bellingham Automotive
REFRESH-INTERVAL;VALUE=DURATION:PT1H
X-Robots-Tag:noindex
X-PUBLISHED-TTL:PT1H
BEGIN:VTIMEZONE
TZID:UTC
BEGIN:STANDARD
TZOFFSETFROM:+0000
TZOFFSETTO:+0000
TZNAME:UTC
DTSTART:20240101T000000
END:STANDARD
END:VTIMEZONE
BEGIN:VEVENT
DTSTART;VALUE=DATE:20251002
DTEND;VALUE=DATE:20251003
DTSTAMP:20260422T055308
CREATED:20251009T223706Z
LAST-MODIFIED:20251009T223706Z
UID:5565-1759363200-1759449599@bellinghamautomotive.com
SUMMARY:KC Gone
DESCRIPTION:
URL:https://bellinghamautomotive.com/event/kc-gone-7/
CATEGORIES:KC Gone
END:VEVENT
BEGIN:VEVENT
DTSTART;VALUE=DATE:20251010
DTEND;VALUE=DATE:20251011
DTSTAMP:20260422T055308
CREATED:20251010T204117Z
LAST-MODIFIED:20251010T204117Z
UID:5574-1760054400-1760140799@bellinghamautomotive.com
SUMMARY:KC Gone
DESCRIPTION:
URL:https://bellinghamautomotive.com/event/kc-gone-8/
CATEGORIES:KC Gone
END:VEVENT
BEGIN:VEVENT
DTSTART;VALUE=DATE:20251024
DTEND;VALUE=DATE:20251025
DTSTAMP:20260422T055308
CREATED:20251015T162655Z
LAST-MODIFIED:20251015T162655Z
UID:5582-1761264000-1761350399@bellinghamautomotive.com
SUMMARY:KC GONE
DESCRIPTION:
URL:https://bellinghamautomotive.com/event/kc-gone-9/
CATEGORIES:KC Gone
END:VEVENT
END:VCALENDAR