BEGIN:VCALENDAR
VERSION:2.0
PRODID:-//Bellingham Automotive - ECPv6.15.12.2//NONSGML v1.0//EN
CALSCALE:GREGORIAN
METHOD:PUBLISH
X-WR-CALNAME:Bellingham Automotive
X-ORIGINAL-URL:https://bellinghamautomotive.com
X-WR-CALDESC:Events for Bellingham Automotive
REFRESH-INTERVAL;VALUE=DURATION:PT1H
X-Robots-Tag:noindex
X-PUBLISHED-TTL:PT1H
BEGIN:VTIMEZONE
TZID:UTC
BEGIN:STANDARD
TZOFFSETFROM:+0000
TZOFFSETTO:+0000
TZNAME:UTC
DTSTART:20240101T000000
END:STANDARD
END:VTIMEZONE
BEGIN:VEVENT
DTSTART;VALUE=DATE:20250703
DTEND;VALUE=DATE:20250704
DTSTAMP:20260422T113400
CREATED:20250627T162104Z
LAST-MODIFIED:20250627T162104Z
UID:5473-1751500800-1751587199@bellinghamautomotive.com
SUMMARY:KC Gone
DESCRIPTION:
URL:https://bellinghamautomotive.com/event/kc-gone-5/
CATEGORIES:KC Gone
END:VEVENT
BEGIN:VEVENT
DTSTART;TZID=UTC:20250721T080000
DTEND;TZID=UTC:20250725T170000
DTSTAMP:20260422T113400
CREATED:20250501T185424Z
LAST-MODIFIED:20250501T185424Z
UID:5346-1753084800-1753462800@bellinghamautomotive.com
SUMMARY:KC Gone
DESCRIPTION:
URL:https://bellinghamautomotive.com/event/kc-gone-3/
CATEGORIES:KC Gone
END:VEVENT
END:VCALENDAR