BEGIN:VCALENDAR
VERSION:2.0
PRODID:-//Bellingham Automotive - ECPv6.15.12.2//NONSGML v1.0//EN
CALSCALE:GREGORIAN
METHOD:PUBLISH
X-ORIGINAL-URL:https://bellinghamautomotive.com
X-WR-CALDESC:Events for Bellingham Automotive
REFRESH-INTERVAL;VALUE=DURATION:PT1H
X-Robots-Tag:noindex
X-PUBLISHED-TTL:PT1H
BEGIN:VTIMEZONE
TZID:UTC
BEGIN:STANDARD
TZOFFSETFROM:+0000
TZOFFSETTO:+0000
TZNAME:UTC
DTSTART:20240101T000000
END:STANDARD
END:VTIMEZONE
BEGIN:VEVENT
DTSTART;VALUE=DATE:20250509
DTEND;VALUE=DATE:20250522
DTSTAMP:20260423T102345
CREATED:20250501T180456Z
LAST-MODIFIED:20250501T183713Z
UID:5318-1746748800-1747871999@bellinghamautomotive.com
SUMMARY:Kathy Gone
DESCRIPTION:
URL:https://bellinghamautomotive.com/event/kathy-gone-3/
CATEGORIES:Kathy Gone
END:VEVENT
END:VCALENDAR