BEGIN:VCALENDAR
VERSION:2.0
PRODID:-//Bellingham Automotive - ECPv6.15.12.2//NONSGML v1.0//EN
CALSCALE:GREGORIAN
METHOD:PUBLISH
X-WR-CALNAME:Bellingham Automotive
X-ORIGINAL-URL:https://bellinghamautomotive.com
X-WR-CALDESC:Events for Bellingham Automotive
REFRESH-INTERVAL;VALUE=DURATION:PT1H
X-Robots-Tag:noindex
X-PUBLISHED-TTL:PT1H
BEGIN:VTIMEZONE
TZID:UTC
BEGIN:STANDARD
TZOFFSETFROM:+0000
TZOFFSETTO:+0000
TZNAME:UTC
DTSTART:20240101T000000
END:STANDARD
END:VTIMEZONE
BEGIN:VEVENT
DTSTART;TZID=UTC:20251229T080000
DTEND;TZID=UTC:20260105T170000
DTSTAMP:20260419T215407
CREATED:20250502T215054Z
LAST-MODIFIED:20251119T192447Z
UID:5398-1766995200-1767632400@bellinghamautomotive.com
SUMMARY:Jason V Gone
DESCRIPTION:
URL:https://bellinghamautomotive.com/event/tyler-gone-2/
CATEGORIES:Jason V Gone,Tyler Gone
END:VEVENT
END:VCALENDAR