BEGIN:VCALENDAR
VERSION:2.0
PRODID:-//Bellingham Automotive - ECPv6.15.12.2//NONSGML v1.0//EN
CALSCALE:GREGORIAN
METHOD:PUBLISH
X-WR-CALNAME:Bellingham Automotive
X-ORIGINAL-URL:https://bellinghamautomotive.com
X-WR-CALDESC:Events for Bellingham Automotive
REFRESH-INTERVAL;VALUE=DURATION:PT1H
X-Robots-Tag:noindex
X-PUBLISHED-TTL:PT1H
BEGIN:VTIMEZONE
TZID:UTC
BEGIN:STANDARD
TZOFFSETFROM:+0000
TZOFFSETTO:+0000
TZNAME:UTC
DTSTART:20240101T000000
END:STANDARD
END:VTIMEZONE
BEGIN:VEVENT
DTSTART;VALUE=DATE:20251002
DTEND;VALUE=DATE:20251004
DTSTAMP:20260422T074118
CREATED:20251009T223146Z
LAST-MODIFIED:20251009T223146Z
UID:5561-1759363200-1759535999@bellinghamautomotive.com
SUMMARY:Derek Gone
DESCRIPTION:
URL:https://bellinghamautomotive.com/event/derek-gone-8/
CATEGORIES:Derek Gone
END:VEVENT
END:VCALENDAR