BEGIN:VCALENDAR
VERSION:2.0
PRODID:-//Bellingham Automotive - ECPv6.15.12.2//NONSGML v1.0//EN
CALSCALE:GREGORIAN
METHOD:PUBLISH
X-ORIGINAL-URL:https://bellinghamautomotive.com
X-WR-CALDESC:Events for Bellingham Automotive
REFRESH-INTERVAL;VALUE=DURATION:PT1H
X-Robots-Tag:noindex
X-PUBLISHED-TTL:PT1H
BEGIN:VTIMEZONE
TZID:UTC
BEGIN:STANDARD
TZOFFSETFROM:+0000
TZOFFSETTO:+0000
TZNAME:UTC
DTSTART:20240101T000000
END:STANDARD
END:VTIMEZONE
BEGIN:VEVENT
DTSTART;VALUE=DATE:20251017
DTEND;VALUE=DATE:20251021
DTSTAMP:20260422T093445
CREATED:20250502T192143Z
LAST-MODIFIED:20250502T192150Z
UID:5368-1760659200-1761004799@bellinghamautomotive.com
SUMMARY:Anthony Gone
DESCRIPTION:
URL:https://bellinghamautomotive.com/event/anthony-gone-3/
CATEGORIES:Anthony Gone
END:VEVENT
END:VCALENDAR