BEGIN:VCALENDAR
VERSION:2.0
PRODID:-//Bellingham Automotive - ECPv6.15.12.2//NONSGML v1.0//EN
CALSCALE:GREGORIAN
METHOD:PUBLISH
X-ORIGINAL-URL:https://bellinghamautomotive.com
X-WR-CALDESC:Events for Bellingham Automotive
REFRESH-INTERVAL;VALUE=DURATION:PT1H
X-Robots-Tag:noindex
X-PUBLISHED-TTL:PT1H
BEGIN:VTIMEZONE
TZID:UTC
BEGIN:STANDARD
TZOFFSETFROM:+0000
TZOFFSETTO:+0000
TZNAME:UTC
DTSTART:20250101T000000
END:STANDARD
END:VTIMEZONE
BEGIN:VEVENT
DTSTART;TZID=UTC:20260518T080000
DTEND;TZID=UTC:20260529T170000
DTSTAMP:20260421T190416
CREATED:20251229T201613Z
LAST-MODIFIED:20251229T201613Z
UID:5723-1779091200-1780074000@bellinghamautomotive.com
SUMMARY:CHRIS GONE
DESCRIPTION:
URL:https://bellinghamautomotive.com/event/chris-gone-5/
CATEGORIES:Chris Gone
END:VEVENT
BEGIN:VEVENT
DTSTART;VALUE=DATE:20260521
DTEND;VALUE=DATE:20260523
DTSTAMP:20260421T190416
CREATED:20251231T212934Z
LAST-MODIFIED:20251231T212934Z
UID:5745-1779321600-1779494399@bellinghamautomotive.com
SUMMARY:Kelly Gone
DESCRIPTION:
URL:https://bellinghamautomotive.com/event/kelly-gone-10/
CATEGORIES:Kelly Gone
END:VEVENT
END:VCALENDAR