BEGIN:VCALENDAR
VERSION:2.0
PRODID:-//Bellingham Automotive - ECPv6.15.12.2//NONSGML v1.0//EN
CALSCALE:GREGORIAN
METHOD:PUBLISH
X-WR-CALNAME:Bellingham Automotive
X-ORIGINAL-URL:https://bellinghamautomotive.com
X-WR-CALDESC:Events for Bellingham Automotive
REFRESH-INTERVAL;VALUE=DURATION:PT1H
X-Robots-Tag:noindex
X-PUBLISHED-TTL:PT1H
BEGIN:VTIMEZONE
TZID:UTC
BEGIN:STANDARD
TZOFFSETFROM:+0000
TZOFFSETTO:+0000
TZNAME:UTC
DTSTART:20250101T000000
END:STANDARD
END:VTIMEZONE
BEGIN:VEVENT
DTSTART;VALUE=DATE:20260122
DTEND;VALUE=DATE:20260128
DTSTAMP:20260421T222240
CREATED:20251231T212245Z
LAST-MODIFIED:20251231T212245Z
UID:5737-1769040000-1769558399@bellinghamautomotive.com
SUMMARY:Rocky Gone
DESCRIPTION:
URL:https://bellinghamautomotive.com/event/rocky-gone-9/
CATEGORIES:Rocky Gone
END:VEVENT
BEGIN:VEVENT
DTSTART;VALUE=DATE:20260127
DTEND;VALUE=DATE:20260129
DTSTAMP:20260421T222240
CREATED:20260119T225237Z
LAST-MODIFIED:20260119T225237Z
UID:5830-1769472000-1769644799@bellinghamautomotive.com
SUMMARY:Patrick Gone
DESCRIPTION:
URL:https://bellinghamautomotive.com/event/patrick-gone-5/
CATEGORIES:Patrick Gone
END:VEVENT
BEGIN:VEVENT
DTSTART;VALUE=DATE:20260127
DTEND;VALUE=DATE:20260129
DTSTAMP:20260421T222240
CREATED:20260127T183133Z
LAST-MODIFIED:20260127T183133Z
UID:5840-1769472000-1769644799@bellinghamautomotive.com
SUMMARY:Patrick Gone
DESCRIPTION:
URL:https://bellinghamautomotive.com/event/patrick-gone-6/
CATEGORIES:Patrick Gone
END:VEVENT
END:VCALENDAR