BEGIN:VCALENDAR
VERSION:2.0
PRODID:-//Bellingham Automotive - ECPv6.15.12.2//NONSGML v1.0//EN
CALSCALE:GREGORIAN
METHOD:PUBLISH
X-ORIGINAL-URL:https://bellinghamautomotive.com
X-WR-CALDESC:Events for Bellingham Automotive
REFRESH-INTERVAL;VALUE=DURATION:PT1H
X-Robots-Tag:noindex
X-PUBLISHED-TTL:PT1H
BEGIN:VTIMEZONE
TZID:UTC
BEGIN:STANDARD
TZOFFSETFROM:+0000
TZOFFSETTO:+0000
TZNAME:UTC
DTSTART:20240101T000000
END:STANDARD
END:VTIMEZONE
BEGIN:VEVENT
DTSTART;TZID=UTC:20251204T073000
DTEND;TZID=UTC:20251204T100000
DTSTAMP:20260422T014934
CREATED:20251023T221019Z
LAST-MODIFIED:20251023T221019Z
UID:5596-1764833400-1764842400@bellinghamautomotive.com
SUMMARY:Jacob gone in the Morning
DESCRIPTION:
URL:https://bellinghamautomotive.com/event/jacob-gone-in-the-morning-2/
CATEGORIES:Jacob Gone
END:VEVENT
END:VCALENDAR